BEGIN:VCALENDAR
VERSION:2.0
PRODID:-//eventon.com NONSGML v1.0//EN
BEGIN:VEVENT
UID:69e78554139c5
DTSTAMP:20260421T071028
DTSTART:20210910T023000Z
DTEND:20210910T050000Z
LOCATION:Ironstone Amphitheatre 1894 6 Mile Rd
SUMMARY:Ironstone Concert Series
DESCRIPTION: "Train" Train was inescapable during the turn of the 21st century when songs like “Calling All Angels” and “Drops of Jupiter” made the San Francisco residents some of America’s most popular balladeers. Although formed during the glory days of post-grunge\,  the group found more success in the pop/rock world\,  where[..]
END:VEVENT
END:VCALENDAR