BEGIN:VCALENDAR
VERSION:2.0
PRODID:-//eventon.com NONSGML v1.0//EN
BEGIN:VEVENT
UID:69eb3f2d7b318
DTSTAMP:20260424T030013
DTSTART:20210619T070000Z
DTEND:20210621T065900Z
LOCATION:Calaveras County Fairgrounds 2465 Gun Club Road
SUMMARY:Calaveras Celtic Fair
DESCRIPTION: The 35th Annual Celtic Heritage Celebration returns with the Largest and Biggest Celtic Event on the West Coast! Celebrating the cultures of Ireland\,  Scotland\,  Wales\,  Cornwall\,  Brittany\,  Isle of Mann\,  Galacia and Asturias We are welcoming back the Imperial Knights Tournament of Champions! Imperial Knights Production Company produces an exciting[..]
END:VEVENT
END:VCALENDAR