BEGIN:VCALENDAR
VERSION:2.0
PRODID:-//eventon.com NONSGML v1.0//EN
BEGIN:VEVENT
UID:69e744e7a346a
DTSTAMP:20260421T023535
DTSTART:20210625T070000Z
DTEND:20210628T065900Z
LOCATION:West Side Memorial Park 18375 Fir Ave
SUMMARY:72nd Tuolumne Lumber Jubilee
DESCRIPTION: 72nd Tuolumne Lumber Jubilee will be June 25th through June 27th. Tentative Schedule will be as follows: June 25th * 9am to 4pm High School Softball and Flag Football Tournaments. Teams TBA * Noon Queen Contestants Logging Event and Speeches. * Noon Vendors open. * Noon Children’s Jumpers will be[..]
END:VEVENT
END:VCALENDAR